Workbook
Name csDesignMode: 1
Name Materials_Data: #REF!
Name НДС: #REF!
Name НДС: #REF!

Sheet Оглавление
A1: ПРАЙС-ЛИСТ НА ТЕПЛОИЗОЛЯЦИОННУЮ ПРОДУКЦИЮ
A2: ООО "РОКВУЛ"
A4: ТЕХНИЧЕСКАЯ ИЗОЛЯЦИЯ
A6: от 01 апреля 2026 года
A10: ТЕПЛОИЗОЛЯЦИОННАЯ ПРОДУКЦИЯ
A13: МАТЫ И ПЛИТЫ | B13: Продукт
A14: Прошивные маты ВАЙРЕД МАТ | B14: ВАЙРЕД МАТ 80 | C14: Прайс-лист | D14: Описание, возможности пр-ва, мин.заказ
A15: Прошивные маты ВАЙРЕД МАТ | B15: ВАЙРЕД МАТ 80 SST | C15: Прайс-лист | D15: Описание, возможности пр-ва, мин.заказ
A16: Прошивные маты ВАЙРЕД МАТ | B16: ВАЙРЕД МАТ 80 Кф | C16: Прайс-лист | D16: Описание, возможности пр-ва, мин.заказ
A17: Прошивные маты ВАЙРЕД МАТ | B17: ВАЙРЕД МАТ 80 Кф1 | C17: Прайс-лист | D17: Описание, возможности пр-ва, мин.заказ
A18: Прошивные маты ВАЙРЕД МАТ | B18: ВАЙРЕД МАТ 105 | C18: Прайс-лист | D18: Описание, возможности пр-ва, мин.заказ
A19: Прошивные маты ВАЙРЕД МАТ | B19: ВАЙРЕД МАТ 105 SST | C19: Прайс-лист | D19: Описание, возможности пр-ва, мин.заказ
A20: Прошивные маты ВАЙРЕД МАТ | B20: ВАЙРЕД МАТ 105 Кф | C20: Прайс-лист | D20: Описание, возможности пр-ва, мин.заказ
A21: Прошивные маты ВАЙРЕД МАТ | B21: ВАЙРЕД МАТ 105 Кф1 | C21: Прайс-лист | D21: Описание, возможности пр-ва, мин.заказ
A22: Прошивные маты ВАЙРЕД МАТ | B22: ВАЙРЕД МАТ 50 | C22: Прайс-лист | D22: Описание, возможности пр-ва, мин.заказ
A23: Ламельные маты | B23: ЛАМЕЛЛА МАТ (AL) | C23: Прайс-лист | D23: Описание, возможности пр-ва, мин.заказ
A24: Маты ТЕХ МАТ | B24: ТЕХ МАТ | C24: Прайс-лист | D24: Описание, возможности пр-ва, мин.заказ
A25: Маты ТЕХ МАТ | B25: ТЕХ МАТ Кф | C25: Прайс-лист | D25: Описание, возможности пр-ва, мин.заказ
... A41: Плиты ИНДАСТРИАЛ БАТТС | B41: ИНДАСТРИАЛ БАТТС 80 | C41: Прайс-лист | D41: Описание, возможности пр-ва, мин.заказ
A45: ВАЙРЕД МАТ (упаковка на паллету) | B45: Продукт
A46: Прошивные маты ВАЙРЕД МАТ | B46: ВАЙРЕД МАТ 80 | C46: Прайс-лист | D46: Описание, возможности пр-ва, мин.заказ
A47: Прошивные маты ВАЙРЕД МАТ | B47: ВАЙРЕД МАТ 80 SST | C47: Прайс-лист | D47: Описание, возможности пр-ва, мин.заказ
A48: Прошивные маты ВАЙРЕД МАТ | B48: ВАЙРЕД МАТ 80 Кф | C48: Прайс-лист | D48: Описание, возможности пр-ва, мин.заказ
A49: Прошивные маты ВАЙРЕД МАТ | B49: ВАЙРЕД МАТ 105 | C49: Прайс-лист | D49: Описание, возможности пр-ва, мин.заказ
A50: Прошивные маты ВАЙРЕД МАТ | B50: ВАЙРЕД МАТ 105 SST | C50: Прайс-лист | D50: Описание, возможности пр-ва, мин.заказ
A51: Прошивные маты ВАЙРЕД МАТ | B51: ВАЙРЕД МАТ 105 Кф | C51: Прайс-лист | D51: Описание, возможности пр-ва, мин.заказ
A52: Прошивные маты ВАЙРЕД МАТ | B52: ВАЙРЕД МАТ 105 Кф1 | C52: Прайс-лист | D52: Описание, возможности пр-ва, мин.заказ
A56: ЦИЛИНДРЫ | B56: Продукт
A57: Цилиндры навивные | B57: Цилиндр навивной RWL 100 | C57: Прайс-лист | D57: Описание, возможности пр-ва, мин.заказ
A58: Цилиндры навивные | B58: Цилиндр навивной RWL 100 Кф | C58: Прайс-лист | D58: Описание, возможности пр-ва, мин.заказ
A59: Цилиндры | B59: Цилиндр RWL 80 Кф1 | C59: Прайс-лист | D59: Описание, возможности пр-ва, мин.заказ
A60: Цилиндры | B60: Цилиндр RWL 80 Кф | C60: Прайс-лист | D60: Описание, возможности пр-ва, мин. заказ
A61: Цилиндры навивные | B61: Цилиндр навивной RWL 150 | C61: Прайс-лист | D61: Описание, возможности пр-ва, мин.заказ
A65: СОПУТСТВУЮЩАЯ ПРОДУКЦИЯ
A68: Сегмент | B68: Продукт
A69: Сопутствующая продукция для ФТ БАРЬЕР / ФТ БАРЬЕР Д | B69: Анкер стальной | C69: Прайс-лист
A70: Сопутствующая продукция для ФТ БАРЬЕР / ФТ БАРЬЕР Д | B70: Тарельчатый держатель | C70: Прайс-лист
A71: Сопутствующая продукция для ФТ БАРЬЕР / ФТ БАРЬЕР Д | B71: Декоративная краска ФТ Декор | C71: Прайс-лист
A72: Сопутствующая продукция для КОНЛИТ SL 150 | B72: Клей КОНЛИТ | C72: Прайс-лист
A73: Аксессуары к технической изоляции | B73: Самоклеящееся покрытие для теплоизоляции | C73: Прайс-лист
...

Sheet Маты и плиты
A1: ПРАЙС-ЛИСТ НА ТЕПЛОИЗОЛЯЦИОННУЮ ПРОДУКЦИЮ
A2: ООО "РОКВУЛ"
A4: ТЕХНИЧЕСКАЯ ИЗОЛЯЦИЯ: МАТЫ И ПЛИТЫ
A6: от 01 апреля 2026 года
A9: Важные примечания:
A10: 1. Ставка НДС применяется в соответствии с действующим законодательством.
A11: 2. Счет является действительным к оплате в течение 3-х банковских дней.
A12: 3. Заказы на теплоизоляционные материалы поступают в производство с момента поступления денег на расчетный счет производителя.
A13: 4. Список материалов (их размеров и вариантов упаковок), представленный в данном Прайс-листе, не является исчерпывающим списком возможностей производства. С дополнительными возможностями можно ознакомиться
A14: на листе "Возможности пр-ва" или уточнить у торгового представителя компании в вашем регионе. | AC14: СКИДКА
A15: 5. Продукция категорий A, B и C (для всех продуктов, размеров и вариантов упаковок) полностью указана в Прайс-листе. Продукция, не указанная в Прайс-листе, относится к категории D. | AC15: 0
A16: 6. Размер минимального заказа указан на листе "Возможности пр-ва" и в колонках W-AA (под плюсом).
A17: 7. Стоимость кашировки плит ТЕХ БАТТС составляет 102.16 руб./м2 без НДС, или 124.64 руб./м2 с НДС 22%.
A18: 8. Возможен выпуск плит ИНДАСТРИАЛ БАТТС 80 BF с двухсторонним покрытием стеклохолстом.
A19: 9. ** Минимальная партия при отгрузке с завода (при наличии материала на складе) г. Балашиха - 1 уп .
A20: 10. *** Минимальная партия при отгрузке с завода г. Выборг - 9 тонн
I21: ПРОИЗВОДСТВО | M21: УПАКОВКА | Q21: ПАЛЛЕТА | U21: КАТЕГОРИЯ | Z21: ЦЕНА от 01.04.2026
A22: Сегмент | B22: Продукт | C22: Длина | D22: Ширина | E22: Толщина | F22: RWL код | G22: Название | H22: Упаковка | I22: ZHE | J22: VYB | K22: ELA | L22: TRK | M22: шт./уп. | N22: м2/уп. | O22: м3/уп. | P22: кг/уп. | Q22: пач./пал. | R22: м2/пал. | S22: м3/пал. | T22: кг/пал. | U22: ABC | V22: упак. | W22: м2 | X22: м3 | Y22: кг | Z22: руб./м2 без НДС | AA22: руб./м2 с НДС 22% | AB22: руб./м3 без НДС | AC22: руб./м3 с НДС 22% | AE22: Segment | AF22: RW код | AG22: Плотность | AH22: руб./м3 без НДС | AI22: руб./м2 без НДС
A23: Прошивные маты ВАЙРЕД МАТ | B23: ВАЙРЕД МАТ 80 | C23: 5000 | D23: 1000 | E23: 40 | F23: ГП-00006028 | G23: ВАЙРЕД МАТ 80 5000x1000x40 рул. | H23: рул. | I23: * | M23: 1 | N23: =M23*C23*D23/1000000 -> 5 | O23: =N23*E23/1000 -> 0.2 | P23: =O23*AG23 -> 16 | U23: A | V23: 80 | W23: =IF($H23="рул./пал.",$V23*R23,$V23*N23) -> 400 | X23: =IF($H23="рул./пал.",$V23*S23,$V23*O23) -> 16 | Y23: =IF($H23="рул./пал.",$V23*T23,$V23*P23) -> 1280 | Z23: =ROUND((AB23*E23)/1000,2) -> 702.71 | AA23: =ROUND(Z23*1.22,2) -> 857.31 | AB23: =ROUND(AH23*(1-$AC$15),2) -> 17567.8 | AC23: =ROUND(AB23*1.22,2) -> 21432.72 | AD23: =SUBSTITUTE(F23,"ГП-","") -> 00006028 | AE23: Process | AF23: 222468 | AG23: 80 | AH23: 17567.8 | AI23: =Z23 -> 702.71
A24: Прошивные маты ВАЙРЕД МАТ | B24: ВАЙРЕД МАТ 80 | C24: 4000 | D24: 1000 | E24: 50 | F24: ГП-65369 | G24: ВАЙРЕД МАТ 80 4000x1000x50 рул. | H24: рул. | I24: * | M24: 1 | N24: =M24*C24*D24/1000000 -> 4 | O24: =N24*E24/1000 -> 0.2 | P24: =O24*AG24 -> 16 | U24: A | V24: 80 | W24: =IF($H24="рул./пал.",$V24*R24,$V24*N24) -> 320 | X24: =IF($H24="рул./пал.",$V24*S24,$V24*O24) -> 16 | Y24: =IF($H24="рул./пал.",$V24*T24,$V24*P24) -> 1280 | Z24: =ROUND((AB24*E24)/1000,2) -> 836.69 | AA24: =ROUND(Z24*1.22,2) -> 1020.76 | AB24: =ROUND(AH24*(1-$AC$15),2) -> 16733.8 | AC24: =ROUND(AB24*1.22,2) -> 20415.24 | AD24: =SUBSTITUTE(F24,"ГП-","") -> 65369 | AE24: Process | AF24: 222475 | AG24: 80 | AH24: 16733.8 | AI24: =Z24 -> 836.69
A25: Прошивные маты ВАЙРЕД МАТ | B25: ВАЙРЕД МАТ 80 | C25: 4000 | D25: 1000 | E25: 60 | F25: ГП-222477 | G25: ВАЙРЕД МАТ 80 4000x1000x60 рул. | H25: рул. | I25: * | M25: 1 | N25: =M25*C25*D25/1000000 -> 4 | O25: =N25*E25/1000 -> 0.24 | P25: =O25*AG25 -> 19.2 | U25: A | V25: 80 | W25: =IF($H25="рул./пал.",$V25*R25,$V25*N25) -> 320 | X25: =IF($H25="рул./пал.",$V25*S25,$V25*O25) -> 19.2 | Y25: =IF($H25="рул./пал.",$V25*T25,$V25*P25) -> 1536 | Z25: =ROUND((AB25*E25)/1000,2) -> 997.8 | AA25: =ROUND(Z25*1.22,2) -> 1217.32 | AB25: =ROUND(AH25*(1-$AC$15),2) -> 16630 | AC25: =ROUND(AB25*1.22,2) -> 20288.6 | AD25: =SUBSTITUTE(F25,"ГП-","") -> 222477 | AE25: Process | AF25: 222477 | AG25: 80 | AH25: 16630 | AI25: =Z25 -> 997.8
A26: Прошивные маты ВАЙРЕД МАТ | B26: ВАЙРЕД МАТ 80 | C26: 2000 | D26: 1000 | E26: 70 | F26: ГП-76535 | G26: ВАЙРЕД МАТ 80 2000x1000x70 рул. | H26: рул. | I26: * | M26: 1 | N26: =M26*C26*D26/1000000 -> 2 | O26: =N26*E26/1000 -> 0.14 | P26: =O26*AG26 -> 11.2 | U26: B | V26: 80 | W26: =IF($H26="рул./пал.",$V26*R26,$V26*N26) -> 160 | X26: =IF($H26="рул./пал.",$V26*S26,$V26*O26) -> 11.2 | Y26: =IF($H26="рул./пал.",$V26*T26,$V26*P26) -> 896 | Z26: =ROUND((AB26*E26)/1000,2) -> 1144.17 | AA26: =ROUND(Z26*1.22,2) -> 1395.89 | AB26: =ROUND(AH26*(1-$AC$15),2) -> 16345.3 | AC26: =ROUND(AB26*1.22,2) -> 19941.27 | AD26: =SUBSTITUTE(F26,"ГП-","") -> 76535 | AE26: Process | AF26: 76535 | AG26: 80 | AH26: 16345.3 | AI26: =Z26 -> 1144.17
A27: Прошивные маты ВАЙРЕД МАТ | B27: ВАЙРЕД МАТ 80 | C27: 2000 | D27: 1000 | E27: 80 | F27: ГП-72377 | G27: ВАЙРЕД МАТ 80 2000x1000x80 рул. | H27: рул. | I27: * | M27: 1 | N27: =M27*C27*D27/1000000 -> 2 | O27: =N27*E27/1000 -> 0.16 | P27: =O27*AG27 -> 12.8 | U27: A | V27: 80 | W27: =IF($H27="рул./пал.",$V27*R27,$V27*N27) -> 160 | X27: =IF($H27="рул./пал.",$V27*S27,$V27*O27) -> 12.8 | Y27: =IF($H27="рул./пал.",$V27*T27,$V27*P27) -> 1024 | Z27: =ROUND((AB27*E27)/1000,2) -> 1243.31 | AA27: =ROUND(Z27*1.22,2) -> 1516.84 | AB27: =ROUND(AH27*(1-$AC$15),2) -> 15541.4 | AC27: =ROUND(AB27*1.22,2) -> 18960.51 | AD27: =SUBSTITUTE(F27,"ГП-","") -> 72377 | AE27: Process | AF27: 72377 | AG27: 80 | AH27: 15541.4 | AI27: =Z27 -> 1243.31
A28: Прошивные маты ВАЙРЕД МАТ | B28: ВАЙРЕД МАТ 80 | C28: 2000 | D28: 1000 | E28: 90 | F28: ГП-73766 | G28: ВАЙРЕД МАТ 80 2000x1000x90 рул. | H28: рул. | I28: * | M28: 1 | N28: =M28*C28*D28/1000000 -> 2 | O28: =N28*E28/1000 -> 0.18 | P28: =O28*AG28 -> 14.4 | U28: C | V28: 80 | W28: =IF($H28="рул./пал.",$V28*R28,$V28*N28) -> 160 | X28: =IF($H28="рул./пал.",$V28*S28,$V28*O28) -> 14.4 | Y28: =IF($H28="рул./пал.",$V28*T28,$V28*P28) -> 1152 | Z28: =ROUND((AB28*E28)/1000,2) -> 1389.69 | AA28: =ROUND(Z28*1.22,2) -> 1695.42 | AB28: =ROUND(AH28*(1-$AC$15),2) -> 15441 | AC28: =ROUND(AB28*1.22,2) -> 18838.02 | AD28: =SUBSTITUTE(F28,"ГП-","") -> 73766 | AE28: Process | AF28: 73766 | AG28: 80 | AH28: 15441 | AI28: =Z28 -> 1389.69
A29: Прошивные маты ВАЙРЕД МАТ | B29: ВАЙРЕД МАТ 80 | C29: 2000 | D29: 1000 | E29: 100 | F29: ГП-72272 | G29: ВАЙРЕД МАТ 80 2000x1000x100 рул. | H29: рул. | I29: * | M29: 1 | N29: =M29*C29*D29/1000000 -> 2 | O29: =N29*E29/1000 -> 0.2 | P29: =O29*AG29 -> 16 | U29: A | V29: 80 | W29: =IF($H29="рул./пал.",$V29*R29,$V29*N29) -> 160 | X29: =IF($H29="рул./пал.",$V29*S29,$V29*O29) -> 16 | Y29: =IF($H29="рул./пал.",$V29*T29,$V29*P29) -> 1280 | Z29: =ROUND((AB29*E29)/1000,2) -> 1527.35 | AA29: =ROUND(Z29*1.22,2) -> 1863.37 | AB29: =ROUND(AH29*(1-$AC$15),2) -> 15273.5 | AC29: =ROUND(AB29*1.22,2) -> 18633.67 | AD29: =SUBSTITUTE(F29,"ГП-","") -> 72272 | AE29: Process | AF29: 72272 | AG29: 80 | AH29: 15273.5 | AI29: =Z29 -> 1527.35
A30: Прошивные маты ВАЙРЕД МАТ | B30: ВАЙРЕД МАТ 80 | C30: 2000 | D30: 1000 | E30: 110 | F30: ГП-84237 | G30: ВАЙРЕД МАТ 80 2000x1000x110 рул. | H30: рул. | I30: * | M30: 1 | N30: =M30*C30*D30/1000000 -> 2 | O30: =N30*E30/1000 -> 0.22 | P30: =O30*AG30 -> 17.6 | U30: C | V30: 80 | W30: =IF($H30="рул./пал.",$V30*R30,$V30*N30) -> 160 | X30: =IF($H30="рул./пал.",$V30*S30,$V30*O30) -> 17.6 | Y30: =IF($H30="рул./пал.",$V30*T30,$V30*P30) -> 1408 | Z30: =ROUND((AB30*E30)/1000,2) -> 1737.02 | AA30: =ROUND(Z30*1.22,2) -> 2119.16 | AB30: =ROUND(AH30*(1-$AC$15),2) -> 15791.1 | AC30: =ROUND(AB30*1.22,2) -> 19265.14 | AD30: =SUBSTITUTE(F30,"ГП-","") -> 84237 | AE30: Process | AF30: 84237 | AG30: 80 | AH30: 15791.1 | AI30: =Z30 -> 1737.02
A31: Прошивные маты ВАЙРЕД МАТ | B31: ВАЙРЕД МАТ 80 | C31: 2000 | D31: 1000 | E31: 120 | F31: ГП-82605 | G31: ВАЙРЕД МАТ 80 2000x1000x120 рул. | H31: рул. | I31: * | M31: 1 | N31: =M31*C31*D31/1000000 -> 2 | O31: =N31*E31/1000 -> 0.24 | P31: =O31*AG31 -> 19.2 | U31: C | V31: 80 | W31: =IF($H31="рул./пал.",$V31*R31,$V31*N31) -> 160 | X31: =IF($H31="рул./пал.",$V31*S31,$V31*O31) -> 19.2 | Y31: =IF($H31="рул./пал.",$V31*T31,$V31*P31) -> 1536 | Z31: =ROUND((AB31*E31)/1000,2) -> 1895.11 | AA31: =ROUND(Z31*1.22,2) -> 2312.03 | AB31: =ROUND(AH31*(1-$AC$15),2) -> 15792.6 | AC31: =ROUND(AB31*1.22,2) -> 19266.97 | AD31: =SUBSTITUTE(F31,"ГП-","") -> 82605 | AE31: Process | AF31: 82605 | AG31: 80 | AH31: 15792.6 | AI31: =Z31 -> 1895.11
A32: Прошивные маты ВАЙРЕД МАТ | B32: ВАЙРЕД МАТ 80 SST | C32: 5000 | D32: 1000 | E32: 40 | F32: ГП-00006030 | G32: ВАЙРЕД МАТ 80 SST 5000x1000x40 рул. | H32: рул. | I32: * | M32: 1 | N32: =M32*C32*D32/1000000 -> 5 | O32: =N32*E32/1000 -> 0.2 | P32: =O32*AG32 -> 16 | U32: C | V32: 80 | W32: =IF($H32="рул./пал.",$V32*R32,$V32*N32) -> 400 | X32: =IF($H32="рул./пал.",$V32*S32,$V32*O32) -> 16 | Y32: =IF($H32="рул./пал.",$V32*T32,$V32*P32) -> 1280 | Z32: =ROUND((AB32*E32)/1000,2) -> 1462.37 | AA32: =ROUND(Z32*1.22,2) -> 1784.09 | AB32: =ROUND(AH32*(1-$AC$15),2) -> 36559.2 | AC32: =ROUND(AB32*1.22,2) -> 44602.22 | AD32: =SUBSTITUTE(F32,"ГП-","") -> 00006030 | AE32: Process | AF32: 223405 | AG32: 80 | AH32: 36559.2 | AI32: =Z32 -> 1462.37
A33: Прошивные маты ВАЙРЕД МАТ | B33: ВАЙРЕД МАТ 80 SST | C33: 4000 | D33: 1000 | E33: 50 | F33: ГП-00006031 | G33: ВАЙРЕД МАТ 80 SST 4000x1000x50 рул. | H33: рул. | I33: * | M33: 1 | N33: =M33*C33*D33/1000000 -> 4 | O33: =N33*E33/1000 -> 0.2 | P33: =O33*AG33 -> 16 | U33: C | V33: 80 | W33: =IF($H33="рул./пал.",$V33*R33,$V33*N33) -> 320 | X33: =IF($H33="рул./пал.",$V33*S33,$V33*O33) -> 16 | Y33: =IF($H33="рул./пал.",$V33*T33,$V33*P33) -> 1280 | Z33: =ROUND((AB33*E33)/1000,2) -> 1640.56 | AA33: =ROUND(Z33*1.22,2) -> 2001.48 | AB33: =ROUND(AH33*(1-$AC$15),2) -> 32811.2 | AC33: =ROUND(AB33*1.22,2) -> 40029.66 | AD33: =SUBSTITUTE(F33,"ГП-","") -> 00006031 | AE33: Process | AF33: 223406 | AG33: 80 | AH33: 32811.2 | AI33: =Z33 -> 1640.56
A34: Прошивные маты ВАЙРЕД МАТ | B34: ВАЙРЕД МАТ 80 SST | C34: 4000 | D34: 1000 | E34: 60 | F34: ГП-223410 | G34: ВАЙРЕД МАТ 80 SST 4000x1000x60 рул. | H34: рул. | I34: * | M34: 1 | N34: =M34*C34*D34/1000000 -> 4 | O34: =N34*E34/1000 -> 0.24 | P34: =O34*AG34 -> 19.2 | U34: C | V34: 80 | W34: =IF($H34="рул./пал.",$V34*R34,$V34*N34) -> 320 | X34: =IF($H34="рул./пал.",$V34*S34,$V34*O34) -> 19.2 | Y34: =IF($H34="рул./пал.",$V34*T34,$V34*P34) -> 1536 | Z34: =ROUND((AB34*E34)/1000,2) -> 1823.77 | AA34: =ROUND(Z34*1.22,2) -> 2225 | AB34: =ROUND(AH34*(1-$AC$15),2) -> 30396.2 | AC34: =ROUND(AB34*1.22,2) -> 37083.36 | AD34: =SUBSTITUTE(F34,"ГП-","") -> 223410 | AE34: Process | AF34: 223410 | AG34: 80 | AH34: 30396.2 | AI34: =Z34 -> 1823.77
... A99: Прошивные маты ВАЙРЕД МАТ | B99: ВАЙРЕД МАТ 50 | C99: 2000 | D99: 1000 | E99: 100 | F99: ГП-210360 | G99: ВАЙРЕД МАТ 50 2000x1000x100 рул. | H99: рул. | I99: * | M99: 1 | N99: =M99*C99*D99/1000000 -> 2 | O99: =N99*E99/1000 -> 0.2 | P99: =O99*AG99 -> 10 | U99: B | V99: 80 | W99: =IF($H99="рул./пал.",$V99*R99,$V99*N99) -> 160 | X99: =IF($H99="рул./пал.",$V99*S99,$V99*O99) -> 16 | Y99: =IF($H99="рул./пал.",$V99*T99,$V99*P99) -> 800 | Z99: =ROUND((AB99*E99)/1000,2) -> 1160.58 | AA99: =ROUND(Z99*1.22,2) -> 1415.91 | AB99: =ROUND(AH99*(1-$AC$15),2) -> 11605.8 | AC99: =ROUND(AB99*1.22,2) -> 14159.08 | AD99: =SUBSTITUTE(F99,"ГП-","") -> 210360 | AE99: Process | AF99: 210360 | AG99: 50 | AH99: 11605.8 | AI99: =Z99 -> 1160.58
A100: Ламельные маты | B100: ЛАМЕЛЛА МАТ (AL) | C100: 10000 | D100: 1000 | E100: 20 | F100: ГП-00001457 | G100: ЛАМЕЛЛА МАТ (AL) 10000х1000х20 рул. | H100: рул. | I100: * | M100: 1 | N100: =M100*C100*D100/1000000 -> 10 | O100: =N100*E100/1000 -> 0.2 | P100: =O100*AG100 -> 8.6 | U100: B | V100: ** | W100: 10 | X100: 0.2 | Y100: 8.6 | Z100: =ROUND((AB100*E100)/1000,2) -> 1290.71 | AA100: =ROUND(Z100*1.22,2) -> 1574.67 | AB100: =ROUND(AH100*(1-$AC$15),2) -> 64535.5 | AC100: =ROUND(AB100*1.22,2) -> 78733.31 | AD100: =SUBSTITUTE(F100,"ГП-","") -> 00001457 | AE100: HVAC | AF100: 00001457 | AG100: 43 | AH100: 64535.5 | AI100: 847.77
A101: Ламельные маты | B101: ЛАМЕЛЛА МАТ (AL) | C101: 9000 | D101: 1000 | E101: 25 | F101: ГП-00001458 | G101: ЛАМЕЛЛА МАТ (AL) 9000х1000х25 рул. | H101: рул. | I101: * | M101: 1 | N101: =M101*C101*D101/1000000 -> 9 | O101: =N101*E101/1000 -> 0.225 | P101: =O101*AG101 -> 9.675 | U101: B | V101: ** | W101: 9 | X101: 0.225 | Y101: 9.675 | Z101: =ROUND((AB101*E101)/1000,2) -> 1453.13 | AA101: =ROUND(Z101*1.22,2) -> 1772.82 | AB101: =ROUND(AH101*(1-$AC$15),2) -> 58125.1 | AC101: =ROUND(AB101*1.22,2) -> 70912.62 | AD101: =SUBSTITUTE(F101,"ГП-","") -> 00001458 | AE101: HVAC | AF101: 00001458 | AG101: 43 | AH101: 58125.1 | AI101: 954.45
A102: Ламельные маты | B102: ЛАМЕЛЛА МАТ (AL) | C102: 8000 | D102: 1000 | E102: 30 | F102: ГП-00001459 | G102: ЛАМЕЛЛА МАТ (AL) 8000х1000х30 рул. | H102: рул. | I102: * | M102: 1 | N102: =M102*C102*D102/1000000 -> 8 | O102: =N102*E102/1000 -> 0.24 | P102: =O102*AG102 -> 10.32 | U102: A | V102: ** | W102: 8 | X102: 0.24 | Y102: 10.32 | Z102: =ROUND((AB102*E102)/1000,2) -> 1518.1 | AA102: =ROUND(Z102*1.22,2) -> 1852.08 | AB102: =ROUND(AH102*(1-$AC$15),2) -> 50603.2 | AC102: =ROUND(AB102*1.22,2) -> 61735.9 | AD102: =SUBSTITUTE(F102,"ГП-","") -> 00001459 | AE102: HVAC | AF102: 00001459 | AG102: 43 | AH102: 50603.2 | AI102: 863.31
A103: Ламельные маты | B103: ЛАМЕЛЛА МАТ (AL) | C103: 6000 | D103: 1000 | E103: 40 | F103: ГП-00001460 | G103: ЛАМЕЛЛА МАТ (AL) 6000х1000х40 рул. | H103: рул. | I103: * | M103: 1 | N103: =M103*C103*D103/1000000 -> 6 | O103: =N103*E103/1000 -> 0.24 | P103: =O103*AG103 -> 10.32 | U103: A | V103: ** | W103: 6 | X103: 0.24 | Y103: 10.32 | Z103: =ROUND((AB103*E103)/1000,2) -> 1552.56 | AA103: =ROUND(Z103*1.22,2) -> 1894.12 | AB103: =ROUND(AH103*(1-$AC$15),2) -> 38814 | AC103: =ROUND(AB103*1.22,2) -> 47353.08 | AD103: =SUBSTITUTE(F103,"ГП-","") -> 00001460 | AE103: HVAC | AF103: 00001460 | AG103: 43 | AH103: 38814 | AI103: 1019.76
A104: Ламельные маты | B104: ЛАМЕЛЛА МАТ (AL) | C104: 5000 | D104: 1000 | E104: 50 | F104: ГП-00001461 | G104: ЛАМЕЛЛА МАТ (AL) 5000х1000х50 рул. | H104: рул. | I104: * | M104: 1 | N104: =M104*C104*D104/1000000 -> 5 | O104: =N104*E104/1000 -> 0.25 | P104: =O104*AG104 -> 10.75 | U104: A | V104: ** | W104: 5 | X104: 0.25 | Y104: 10.75 | Z104: =ROUND((AB104*E104)/1000,2) -> 1899.14 | AA104: =ROUND(Z104*1.22,2) -> 2316.95 | AB104: =ROUND(AH104*(1-$AC$15),2) -> 37982.8 | AC104: =ROUND(AB104*1.22,2) -> 46339.02 | AD104: =SUBSTITUTE(F104,"ГП-","") -> 00001461 | AE104: HVAC | AF104: 00001461 | AG104: 43 | AH104: 37982.8 | AI104: 1247.4
A105: Ламельные маты | B105: ЛАМЕЛЛА МАТ (AL) | C105: 4000 | D105: 1000 | E105: 60 | F105: ГП-00001462 | G105: ЛАМЕЛЛА МАТ (AL) 4000х1000х60 рул. | H105: рул. | I105: * | M105: 1 | N105: =M105*C105*D105/1000000 -> 4 | O105: =N105*E105/1000 -> 0.24 | P105: =O105*AG105 -> 10.32 | U105: C | V105: ** | W105: 4 | X105: 0.24 | Y105: 10.32 | Z105: =ROUND((AB105*E105)/1000,2) -> 2356.66 | AA105: =ROUND(Z105*1.22,2) -> 2875.13 | AB105: =ROUND(AH105*(1-$AC$15),2) -> 39277.6 | AC105: =ROUND(AB105*1.22,2) -> 47918.67 | AD105: =SUBSTITUTE(F105,"ГП-","") -> 00001462 | AE105: HVAC | AF105: 00001462 | AG105: 43 | AH105: 39277.6 | AI105: 1547.91
A106: Ламельные маты | B106: ЛАМЕЛЛА МАТ (AL) | C106: 3000 | D106: 1000 | E106: 80 | F106: ГП-00001464 | G106: ЛАМЕЛЛА МАТ (AL) 3000х1000х80 рул. | H106: рул. | I106: * | M106: 1 | N106: =M106*C106*D106/1000000 -> 3 | O106: =N106*E106/1000 -> 0.24 | P106: =O106*AG106 -> 10.32 | U106: C | V106: ** | W106: 3 | X106: 0.24 | Y106: 10.32 | Z106: =ROUND((AB106*E106)/1000,2) -> 2611.47 | AA106: =ROUND(Z106*1.22,2) -> 3185.99 | AB106: =ROUND(AH106*(1-$AC$15),2) -> 32643.4 | AC106: =ROUND(AB106*1.22,2) -> 39824.95 | AD106: =SUBSTITUTE(F106,"ГП-","") -> 00001464 | AE106: HVAC | AF106: 00001464 | AG106: 43 | AH106: 32643.4 | AI106: 1715.28
A107: Ламельные маты | B107: ЛАМЕЛЛА МАТ (AL) | C107: 2500 | D107: 1000 | E107: 100 | F107: ГП-00001465 | G107: ЛАМЕЛЛА МАТ (AL) 2500х1000х100 рул. | H107: рул. | I107: * | M107: 1 | N107: =M107*C107*D107/1000000 -> 2.5 | O107: =N107*E107/1000 -> 0.25 | P107: =O107*AG107 -> 10.75 | U107: C | V107: ** | W107: 2.5 | X107: 0.25 | Y107: 10.75 | Z107: =ROUND((AB107*E107)/1000,2) -> 3038.94 | AA107: =ROUND(Z107*1.22,2) -> 3707.51 | AB107: =ROUND(AH107*(1-$AC$15),2) -> 30389.4 | AC107: =ROUND(AB107*1.22,2) -> 37075.07 | AD107: =SUBSTITUTE(F107,"ГП-","") -> 00001465 | AE107: HVAC | AF107: 00001465 | AG107: 43 | AH107: 30389.4 | AI107: 1996.05
A108: Маты ТЕХ МАТ | B108: ТЕХ МАТ | C108: 5000 | D108: 1000 | E108: 50 | F108: ГП-56198 | G108: ТЕХ МАТ 5000x1000x50 рул. | H108: рул. | I108: * | M108: 1 | N108: =M108*C108*D108/1000000 -> 5 | O108: =N108*E108/1000 -> 0.25 | P108: =O108*AG108 -> 10.75 | U108: A | V108: 80 | W108: =IF($H108="рул./пал.",$V108*R108,$V108*N108) -> 400 | X108: =IF($H108="рул./пал.",$V108*S108,$V108*O108) -> 20 | Y108: =IF($H108="рул./пал.",$V108*T108,$V108*P108) -> 860 | Z108: =ROUND((AB108*E108)/1000,2) -> 399.52 | AA108: =ROUND(Z108*1.22,2) -> 487.41 | AB108: =ROUND(AH108*(1-$AC$15),2) -> 7990.3 | AC108: =ROUND(AB108*1.22,2) -> 9748.17 | AD108: =SUBSTITUTE(F108,"ГП-","") -> 56198 | AE108: Process | AF108: 56198 | AG108: 43 | AH108: 7990.3 | AI108: =Z108 -> 399.52
...

Sheet OUT
C4: Сегмент | D4: Продукт | E4: Длина | F4: Ширина | G4: Толщина | H4: RW код | I4: Название
C5: Плиты INDUSTRIAL BATTS | D5: INDUSTRIAL BATTS 80 BF | E5: 1000 | F5: 600 | G5: 50 | H5: 253495 | I5: INDUSTRIAL BATTS 80 BF 1000x600x50 пач.
C6: Плиты INDUSTRIAL BATTS | D6: INDUSTRIAL BATTS 80 BF | E6: 1000 | F6: 600 | G6: 100 | H6: 253500 | I6: INDUSTRIAL BATTS 80 BF 1000x600x100 пач.

Sheet ВАЙРЕД МАТ (пал.)
A1: ПРАЙС-ЛИСТ НА ТЕПЛОИЗОЛЯЦИОННУЮ ПРОДУКЦИЮ
A2: ООО "РОКВУЛ"
A4: ВАЙРЕД МАТ (упаковка на паллете)
A6: от 01 апреля 2026 года
AD10: СКИДКА
AD11: 0
I14: ПРОИЗВОДСТВО | M14: УПАКОВКА | Q14: ПАЛЛЕТА | V14: КАТЕГОРИЯ | AA14: ЦЕНА от 01.04.2026
A15: Сегмент | B15: Продукт | C15: Длина | D15: Ширина | E15: Толщина | F15: RWL код | G15: Название | H15: Упаковка | I15: ZHE | J15: VYB | K15: ELA | L15: TRK | M15: шт./уп. | N15: м2/уп. | O15: м3/уп. | P15: кг/уп. | Q15: пач./пал. | R15: м2/пал. | S15: м3/пал. | T15: размеры | U15: макс.высота | V15: ABC | W15: упак. | X15: м2 | Y15: м3 | Z15: кг | AA15: руб./м2 без НДС | AB15: руб./м2 с НДС 22% | AC15: руб./м3 без НДС | AD15: руб./м3 с НДС 22% | AF15: Segment | AG15: RW код | AH15: Плотность | AI15: руб./м3 без НДС | AJ15: руб./м2 без НДС
A16: Прошивные маты ВАЙРЕД МАТ | B16: ВАЙРЕД МАТ 80 | C16: 5000 | D16: 1000 | E16: 40 | F16: ГП-00008569 | G16: ВАЙРЕД МАТ 80 5000х1000х40 (21 ПАЧ/ПАЛ) | H16: пал. | I16: * | M16: 1 | Q16: 21 | R16: =Q16*(C16*D16/1000000) -> 105 | S16: =Q16*(C16*D16*E16/1000000000) -> 4.2 | T16: 1200х1200 | U16: 2540 | V16: C | W16: =ROUNDUP(80/Q16,0) -> 4 | X16: =W16*R16 -> 420 | Y16: =W16*S16 -> 16.8 | AA16: =ROUND((AC16*E16)/1000,2) -> 702.71 | AB16: =ROUND(AA16*1.22,2) -> 857.31 | AC16: =ROUND(AI16*(1-$AD$11),2) -> 17567.8 | AD16: =ROUND(AC16*1.22,2) -> 21432.72 | AE16: =SUBSTITUTE(F16,"ГП-","") -> 00008569 | AF16: Process | AG16: 222468 | AH16: 80 | AI16: 17567.8 | AJ16: =AA16 -> 702.71
A17: Прошивные маты ВАЙРЕД МАТ | B17: ВАЙРЕД МАТ 80 | C17: 4000 | D17: 1000 | E17: 50 | F17: ГП-00008596 | G17: ВАЙРЕД МАТ 80 4000х1000х50 (21 ПАЧ/ПАЛ) | H17: пал. | I17: * | M17: 1 | Q17: 21 | R17: =Q17*(C17*D17/1000000) -> 84 | S17: =Q17*(C17*D17*E17/1000000000) -> 4.2 | T17: 1200х1200 | U17: 2540 | V17: C | W17: =ROUNDUP(80/Q17,0) -> 4 | X17: =W17*R17 -> 336 | Y17: =W17*S17 -> 16.8 | AA17: =ROUND((AC17*E17)/1000,2) -> 836.69 | AB17: =ROUND(AA17*1.22,2) -> 1020.76 | AC17: =ROUND(AI17*(1-$AD$11),2) -> 16733.8 | AD17: =ROUND(AC17*1.22,2) -> 20415.24 | AE17: =SUBSTITUTE(F17,"ГП-","") -> 00008596 | AF17: Process | AG17: 222475 | AH17: 80 | AI17: 16733.8 | AJ17: =AA17 -> 836.69
A18: Прошивные маты ВАЙРЕД МАТ | B18: ВАЙРЕД МАТ 80 | C18: 4000 | D18: 1000 | E18: 60 | F18: ГП-00008571 | G18: ВАЙРЕД МАТ 80 4000х1000х60 (21 ПАЧ/ПАЛ) | H18: пал. | I18: * | M18: 1 | Q18: 21 | R18: =Q18*(C18*D18/1000000) -> 84 | S18: =Q18*(C18*D18*E18/1000000000) -> 5.04 | T18: 1200х1200 | U18: 2540 | V18: C | W18: =ROUNDUP(80/Q18,0) -> 4 | X18: =W18*R18 -> 336 | Y18: =W18*S18 -> 20.16 | AA18: =ROUND((AC18*E18)/1000,2) -> 997.8 | AB18: =ROUND(AA18*1.22,2) -> 1217.32 | AC18: =ROUND(AI18*(1-$AD$11),2) -> 16630 | AD18: =ROUND(AC18*1.22,2) -> 20288.6 | AE18: =SUBSTITUTE(F18,"ГП-","") -> 00008571 | AF18: Process | AG18: 222477 | AH18: 80 | AI18: 16630 | AJ18: =AA18 -> 997.8
A19: Прошивные маты ВАЙРЕД МАТ | B19: ВАЙРЕД МАТ 80 | C19: 2000 | D19: 1000 | E19: 70 | F19: ГП-00008597 | G19: ВАЙРЕД МАТ 80 2000х1000х70 (27 ПАЧ/ПАЛ) | H19: пал. | I19: * | M19: 1 | Q19: 27 | R19: =Q19*(C19*D19/1000000) -> 54 | S19: =Q19*(C19*D19*E19/1000000000) -> 3.78 | T19: 1200х1200 | U19: 2540 | V19: C | W19: =ROUNDUP(80/Q19,0) -> 3 | X19: =W19*R19 -> 162 | Y19: =W19*S19 -> 11.34 | AA19: =ROUND((AC19*E19)/1000,2) -> 1144.17 | AB19: =ROUND(AA19*1.22,2) -> 1395.89 | AC19: =ROUND(AI19*(1-$AD$11),2) -> 16345.3 | AD19: =ROUND(AC19*1.22,2) -> 19941.27 | AE19: =SUBSTITUTE(F19,"ГП-","") -> 00008597 | AF19: Process | AG19: 76535 | AH19: 80 | AI19: 16345.3 | AJ19: =AA19 -> 1144.17
A20: Прошивные маты ВАЙРЕД МАТ | B20: ВАЙРЕД МАТ 80 | C20: 2000 | D20: 1000 | E20: 80 | F20: ГП-00008598 | G20: ВАЙРЕД МАТ 80 2000х1000х80 (21 ПАЧ/ПАЛ) | H20: пал. | I20: * | M20: 1 | Q20: 21 | R20: =Q20*(C20*D20/1000000) -> 42 | S20: =Q20*(C20*D20*E20/1000000000) -> 3.36 | T20: 1200х1000 | U20: 2540 | V20: C | W20: =ROUNDUP(80/Q20,0) -> 4 | X20: =W20*R20 -> 168 | Y20: =W20*S20 -> 13.44 | AA20: =ROUND((AC20*E20)/1000,2) -> 1243.31 | AB20: =ROUND(AA20*1.22,2) -> 1516.84 | AC20: =ROUND(AI20*(1-$AD$11),2) -> 15541.4 | AD20: =ROUND(AC20*1.22,2) -> 18960.51 | AE20: =SUBSTITUTE(F20,"ГП-","") -> 00008598 | AF20: Process | AG20: 72377 | AH20: 80 | AI20: 15541.4 | AJ20: =AA20 -> 1243.31
A21: Прошивные маты ВАЙРЕД МАТ | B21: ВАЙРЕД МАТ 80 | C21: 2000 | D21: 1000 | E21: 90 | F21: ГП-00008599 | G21: ВАЙРЕД МАТ 80 2000х1000х90 (21 ПАЧ/ПАЛ) | H21: пал. | I21: * | M21: 1 | Q21: 21 | R21: =Q21*(C21*D21/1000000) -> 42 | S21: =Q21*(C21*D21*E21/1000000000) -> 3.78 | T21: 1200х1200 | U21: 2540 | V21: C | W21: =ROUNDUP(80/Q21,0) -> 4 | X21: =W21*R21 -> 168 | Y21: =W21*S21 -> 15.12 | AA21: =ROUND((AC21*E21)/1000,2) -> 1389.69 | AB21: =ROUND(AA21*1.22,2) -> 1695.42 | AC21: =ROUND(AI21*(1-$AD$11),2) -> 15441 | AD21: =ROUND(AC21*1.22,2) -> 18838.02 | AE21: =SUBSTITUTE(F21,"ГП-","") -> 00008599 | AF21: Process | AG21: 73766 | AH21: 80 | AI21: 15441 | AJ21: =AA21 -> 1389.69
A22: Прошивные маты ВАЙРЕД МАТ | B22: ВАЙРЕД МАТ 80 | C22: 2000 | D22: 1000 | E22: 100 | F22: ГП-00008600 | G22: ВАЙРЕД МАТ 80 2000х1000х100 (21 ПАЧ/ПАЛ) | H22: пал. | I22: * | M22: 1 | Q22: 21 | R22: =Q22*(C22*D22/1000000) -> 42 | S22: =Q22*(C22*D22*E22/1000000000) -> 4.2 | T22: 1200х1200 | U22: 2540 | V22: C | W22: =ROUNDUP(80/Q22,0) -> 4 | X22: =W22*R22 -> 168 | Y22: =W22*S22 -> 16.8 | AA22: =ROUND((AC22*E22)/1000,2) -> 1527.35 | AB22: =ROUND(AA22*1.22,2) -> 1863.37 | AC22: =ROUND(AI22*(1-$AD$11),2) -> 15273.5 | AD22: =ROUND(AC22*1.22,2) -> 18633.67 | AE22: =SUBSTITUTE(F22,"ГП-","") -> 00008600 | AF22: Process | AG22: 72272 | AH22: 80 | AI22: 15273.5 | AJ22: =AA22 -> 1527.35
A23: Прошивные маты ВАЙРЕД МАТ | B23: ВАЙРЕД МАТ 80 | C23: 2000 | D23: 1000 | E23: 110 | F23: ГП-00008601 | G23: ВАЙРЕД МАТ 80 2000х1000х110 (21 ПАЧ/ПАЛ) | H23: пал. | I23: * | M23: 1 | Q23: 21 | R23: =Q23*(C23*D23/1000000) -> 42 | S23: =Q23*(C23*D23*E23/1000000000) -> 4.62 | T23: 1200х1200 | U23: 2540 | V23: C | W23: =ROUNDUP(80/Q23,0) -> 4 | X23: =W23*R23 -> 168 | Y23: =W23*S23 -> 18.48 | AA23: =ROUND((AC23*E23)/1000,2) -> 1737.02 | AB23: =ROUND(AA23*1.22,2) -> 2119.16 | AC23: =ROUND(AI23*(1-$AD$11),2) -> 15791.1 | AD23: =ROUND(AC23*1.22,2) -> 19265.14 | AE23: =SUBSTITUTE(F23,"ГП-","") -> 00008601 | AF23: Process | AG23: 84237 | AH23: 80 | AI23: 15791.1 | AJ23: =AA23 -> 1737.02
A24: Прошивные маты ВАЙРЕД МАТ | B24: ВАЙРЕД МАТ 80 | C24: 2000 | D24: 1000 | E24: 120 | F24: ГП-00012427 | G24: ВАЙРЕД МАТ 80 2000х1000х120 (21 ПАЧ/ПАЛ) | H24: пал. | I24: * | M24: 1 | Q24: 21 | R24: =Q24*(C24*D24/1000000) -> 42 | S24: =Q24*(C24*D24*E24/1000000000) -> 5.04 | T24: 1200х1200 | U24: 2540 | V24: C | W24: =ROUNDUP(80/Q24,0) -> 4 | X24: =W24*R24 -> 168 | Y24: =W24*S24 -> 20.16 | AA24: =ROUND((AC24*E24)/1000,2) -> 1895.11 | AB24: =ROUND(AA24*1.22,2) -> 2312.03 | AC24: =ROUND(AI24*(1-$AD$11),2) -> 15792.6 | AD24: =ROUND(AC24*1.22,2) -> 19266.97 | AE24: =SUBSTITUTE(F24,"ГП-","") -> 00012427 | AF24: Process | AG24: 82605 | AH24: 80 | AI24: 15792.6 | AJ24: =AA24 -> 1895.11
A25: Прошивные маты ВАЙРЕД МАТ | B25: ВАЙРЕД МАТ 80 SST | C25: 5000 | D25: 1000 | E25: 40 | F25: no code | G25: ВАЙРЕД МАТ 80 SST 5000х1000х40 (21 ПАЧ/ПАЛ) | H25: пал. | I25: * | M25: 1 | Q25: 21 | R25: =Q25*(C25*D25/1000000) -> 105 | S25: =Q25*(C25*D25*E25/1000000000) -> 4.2 | T25: 1200х1200 | U25: 2540 | V25: C | W25: =ROUNDUP(80/Q25,0) -> 4 | X25: =W25*R25 -> 420 | Y25: =W25*S25 -> 16.8 | AA25: =ROUND((AC25*E25)/1000,2) -> 1462.37 | AB25: =ROUND(AA25*1.22,2) -> 1784.09 | AC25: =ROUND(AI25*(1-$AD$11),2) -> 36559.2 | AD25: =ROUND(AC25*1.22,2) -> 44602.22 | AE25: =SUBSTITUTE(F25,"ГП-","") -> no code | AF25: Process | AG25: 223405 | AH25: 80 | AI25: 36559.2 | AJ25: =AA25 -> 1462.37
A26: Прошивные маты ВАЙРЕД МАТ | B26: ВАЙРЕД МАТ 80 SST | C26: 4000 | D26: 1000 | E26: 50 | F26: no code | G26: ВАЙРЕД МАТ 80 SST 4000х1000х50 (21 ПАЧ/ПАЛ) | H26: пал. | I26: * | M26: 1 | Q26: 21 | R26: =Q26*(C26*D26/1000000) -> 84 | S26: =Q26*(C26*D26*E26/1000000000) -> 4.2 | T26: 1200х1200 | U26: 2540 | V26: C | W26: =ROUNDUP(80/Q26,0) -> 4 | X26: =W26*R26 -> 336 | Y26: =W26*S26 -> 16.8 | AA26: =ROUND((AC26*E26)/1000,2) -> 1640.56 | AB26: =ROUND(AA26*1.22,2) -> 2001.48 | AC26: =ROUND(AI26*(1-$AD$11),2) -> 32811.2 | AD26: =ROUND(AC26*1.22,2) -> 40029.66 | AE26: =SUBSTITUTE(F26,"ГП-","") -> no code | AF26: Process | AG26: 223406 | AH26: 80 | AI26: 32811.2 | AJ26: =AA26 -> 1640.56
A27: Прошивные маты ВАЙРЕД МАТ | B27: ВАЙРЕД МАТ 80 SST | C27: 4000 | D27: 1000 | E27: 60 | F27: no code | G27: ВАЙРЕД МАТ 80 SST 4000х1000х60 (21 ПАЧ/ПАЛ) | H27: пал. | I27: * | M27: 1 | Q27: 21 | R27: =Q27*(C27*D27/1000000) -> 84 | S27: =Q27*(C27*D27*E27/1000000000) -> 5.04 | T27: 1200х1200 | U27: 2540 | V27: C | W27: =ROUNDUP(80/Q27,0) -> 4 | X27: =W27*R27 -> 336 | Y27: =W27*S27 -> 20.16 | AA27: =ROUND((AC27*E27)/1000,2) -> 1823.77 | AB27: =ROUND(AA27*1.22,2) -> 2225 | AC27: =ROUND(AI27*(1-$AD$11),2) -> 30396.2 | AD27: =ROUND(AC27*1.22,2) -> 37083.36 | AE27: =SUBSTITUTE(F27,"ГП-","") -> no code | AF27: Process | AG27: 223410 | AH27: 80 | AI27: 30396.2 | AJ27: =AA27 -> 1823.77
... A75: Прошивные маты ВАЙРЕД МАТ | B75: ВАЙРЕД МАТ 105 Кф1 | C75: 2000 | D75: 1000 | E75: 70 | F75: ГП-00009035 | G75: ВАЙРЕД МАТ 105 Кф1 2000х1000х70 (21 ПАЧ/ПАЛ) | H75: пал. | I75: * | M75: 1 | Q75: 21 | R75: =Q75*(C75*D75/1000000) -> 42 | S75: =Q75*(C75*D75*E75/1000000000) -> 2.94 | T75: 1200х1000 | U75: 2540 | V75: C | W75: =ROUNDUP(80/Q75,0) -> 4 | X75: =W75*R75 -> 168 | Y75: =W75*S75 -> 11.76 | AA75: =ROUND((AC75*E75)/1000,2) -> 1588.65 | AB75: =ROUND(AA75*1.22,2) -> 1938.15 | AC75: =ROUND(AI75*(1-$AD$11),2) -> 22695 | AD75: =ROUND(AC75*1.22,2) -> 27687.9 | AE75: =SUBSTITUTE(F75,"ГП-","") -> 00009035 | AF75: HVAC | AG75: 96411 | AH75: 105 | AI75: 22695 | AJ75: =AA75 -> 1588.65

Sheet Цилиндры
A1: ПРАЙС-ЛИСТ НА ТЕПЛОИЗОЛЯЦИОННУЮ ПРОДУКЦИЮ
A2: ООО "РОКВУЛ"
A4: ТЕХНИЧЕСКАЯ ИЗОЛЯЦИЯ: ЦИЛИНДРЫ НАВИВНЫЕ
A6: от 01 апреля 2026 года
A9: Важные примечания:
A10: 1. Ставка НДС применяется в соответствии с действующим законодательством.
A11: 2. Счет является действительным к оплате в течение 3-х банковских дней. | Q11: СКИДКА
A12: 3. Заказы на теплоизоляционные материалы поступают в производство с момента поступления денег на расчетный счет производителя. | Q12: 0
A13: 4. Размер минимального заказа указан на листе "Возможности пр-ва" и в колонках M-O.
I15: ПР-ВО | K15: ПАЧКА | M15: КАТЕГОРИЯ + МИН.ЗАКАЗ | P15: ='Маты и плиты'!Z21 -> ЦЕНА от 01.04.2026
A16: Сегмент | B16: Продукт | C16: Длина | D16: Толщина | E16: Диаметр | F16: RWL код | G16: Название | H16: Упаковка | I16: ZHE | J16: TRK | K16: шт./пач. | L16: м/пач. | M16: ABC | N16: пач. | O16: м | P16: руб./м без НДС | Q16: руб./м с НДС 22% | R16: Segment | S16: RWL код | T16: руб./м без НДС
A17: Цилиндры навивные | B17: Цилиндр навивной RWL 100 | C17: 1000 | D17: 25 | E17: 28 | F17: ГП-137114 | G17: Цилиндр навивной RWL 100 D 28 T 25 | H17: пач. | I17: * | K17: 12 | L17: =K17 -> 12 | M17: B | N17: =IF(M17="A",1,IF(M17="B", ROUNDUP(10/L17,0),ROUNDUP(40/L17,0))) -> 1 | O17: =N17*L17 -> 12 | P17: =ROUND(T17*(1-$Q$12),2) -> 350 | Q17: =ROUND(P17*1.22,2) -> 427 | R17: Process | S17: =TEXT(F17,0) -> ГП-137114 | T17: 350
A18: Цилиндры навивные | B18: Цилиндр навивной RWL 100 | C18: 1000 | D18: 25 | E18: 32 | F18: ГП-137119 | G18: Цилиндр навивной RWL 100 D 32 T 25 | H18: пач. | I18: * | K18: 12 | L18: =K18 -> 12 | M18: B | N18: =IF(M18="A",1,IF(M18="B", ROUNDUP(10/L18,0),ROUNDUP(40/L18,0))) -> 1 | O18: =N18*L18 -> 12 | P18: =ROUND(T18*(1-$Q$12),2) -> 387.5 | Q18: =ROUND(P18*1.22,2) -> 472.75 | R18: Process | S18: =TEXT(F18,0) -> ГП-137119 | T18: 387.5
A19: Цилиндры навивные | B19: Цилиндр навивной RWL 100 | C19: 1000 | D19: 25 | E19: 35 | F19: ГП-136914 | G19: Цилиндр навивной RWL 100 D 35 T 25 | H19: пач. | I19: * | J19: * | K19: 12 | L19: =K19 -> 12 | M19: B | N19: =IF(M19="A",1,IF(M19="B", ROUNDUP(10/L19,0),ROUNDUP(40/L19,0))) -> 1 | O19: =N19*L19 -> 12 | P19: =ROUND(T19*(1-$Q$12),2) -> 398.3 | Q19: =ROUND(P19*1.22,2) -> 485.93 | R19: Process | S19: =TEXT(F19,0) -> ГП-136914 | T19: 398.3
A20: Цилиндры навивные | B20: Цилиндр навивной RWL 100 | C20: 1000 | D20: 25 | E20: 38 | F20: ГП-137133 | G20: Цилиндр навивной RWL 100 D 38 T 25 | H20: пач. | I20: * | K20: 10 | L20: =K20 -> 10 | M20: C | N20: =IF(M20="A",1,IF(M20="B", ROUNDUP(10/L20,0),ROUNDUP(40/L20,0))) -> 4 | O20: =N20*L20 -> 40 | P20: =ROUND(T20*(1-$Q$12),2) -> 409.2 | Q20: =ROUND(P20*1.22,2) -> 499.22 | R20: Process | S20: =TEXT(F20,0) -> ГП-137133 | T20: 409.2
A21: Цилиндры навивные | B21: Цилиндр навивной RWL 100 | C21: 1000 | D21: 25 | E21: 42 | F21: ГП-137134 | G21: Цилиндр навивной RWL 100 D 42 T 25 | H21: пач. | I21: * | J21: * | K21: 11 | L21: =K21 -> 11 | M21: B | N21: =IF(M21="A",1,IF(M21="B", ROUNDUP(10/L21,0),ROUNDUP(40/L21,0))) -> 1 | O21: =N21*L21 -> 11 | P21: =ROUND(T21*(1-$Q$12),2) -> 424.8 | Q21: =ROUND(P21*1.22,2) -> 518.26 | R21: Process | S21: =TEXT(F21,0) -> ГП-137134 | T21: 424.8
A22: Цилиндры навивные | B22: Цилиндр навивной RWL 100 | C22: 1000 | D22: 25 | E22: 45 | F22: ГП-137168 | G22: Цилиндр навивной RWL 100 D 45 T 25 | H22: пач. | I22: * | K22: 10 | L22: =K22 -> 10 | M22: C | N22: =IF(M22="A",1,IF(M22="B", ROUNDUP(10/L22,0),ROUNDUP(40/L22,0))) -> 4 | O22: =N22*L22 -> 40 | P22: =ROUND(T22*(1-$Q$12),2) -> 434.8 | Q22: =ROUND(P22*1.22,2) -> 530.46 | R22: Process | S22: =TEXT(F22,0) -> ГП-137168 | T22: 434.8
A23: Цилиндры навивные | B23: Цилиндр навивной RWL 100 | C23: 1000 | D23: 25 | E23: 48 | F23: ГП-137184 | G23: Цилиндр навивной RWL 100 D 48 T 25 | H23: пач. | I23: * | K23: 10 | L23: =K23 -> 10 | M23: B | N23: =IF(M23="A",1,IF(M23="B", ROUNDUP(10/L23,0),ROUNDUP(40/L23,0))) -> 1 | O23: =N23*L23 -> 10 | P23: =ROUND(T23*(1-$Q$12),2) -> 440.2 | Q23: =ROUND(P23*1.22,2) -> 537.04 | R23: Process | S23: =TEXT(F23,0) -> ГП-137184 | T23: 440.2
A24: Цилиндры навивные | B24: Цилиндр навивной RWL 100 | C24: 1000 | D24: 25 | E24: 54 | F24: ГП-137205 | G24: Цилиндр навивной RWL 100 D 54 T 25 | H24: пач. | I24: * | K24: 9 | L24: =K24 -> 9 | M24: C | N24: =IF(M24="A",1,IF(M24="B", ROUNDUP(10/L24,0),ROUNDUP(40/L24,0))) -> 5 | O24: =N24*L24 -> 45 | P24: =ROUND(T24*(1-$Q$12),2) -> 448.5 | Q24: =ROUND(P24*1.22,2) -> 547.17 | R24: Process | S24: =TEXT(F24,0) -> ГП-137205 | T24: 448.5
A25: Цилиндры навивные | B25: Цилиндр навивной RWL 100 | C25: 1000 | D25: 25 | E25: 57 | F25: ГП-137209 | G25: Цилиндр навивной RWL 100 D 57 T 25 | H25: пач. | I25: * | K25: 9 | L25: =K25 -> 9 | M25: B | N25: =IF(M25="A",1,IF(M25="B", ROUNDUP(10/L25,0),ROUNDUP(40/L25,0))) -> 2 | O25: =N25*L25 -> 18 | P25: =ROUND(T25*(1-$Q$12),2) -> 460.2 | Q25: =ROUND(P25*1.22,2) -> 561.44 | R25: Process | S25: =TEXT(F25,0) -> ГП-137209 | T25: 460.2
A26: Цилиндры навивные | B26: Цилиндр навивной RWL 100 | C26: 1000 | D26: 25 | E26: 60 | F26: ГП-137260 | G26: Цилиндр навивной RWL 100 D 60 T 25 | H26: пач. | I26: * | K26: 9 | L26: =K26 -> 9 | M26: B | N26: =IF(M26="A",1,IF(M26="B", ROUNDUP(10/L26,0),ROUNDUP(40/L26,0))) -> 2 | O26: =N26*L26 -> 18 | P26: =ROUND(T26*(1-$Q$12),2) -> 465.9 | Q26: =ROUND(P26*1.22,2) -> 568.4 | R26: Process | S26: =TEXT(F26,0) -> ГП-137260 | T26: 465.9
A27: Цилиндры навивные | B27: Цилиндр навивной RWL 100 | C27: 1000 | D27: 25 | E27: 64 | F27: ГП-137261 | G27: Цилиндр навивной RWL 100 D 64 T 25 | H27: пач. | I27: * | K27: 8 | L27: =K27 -> 8 | M27: C | N27: =IF(M27="A",1,IF(M27="B", ROUNDUP(10/L27,0),ROUNDUP(40/L27,0))) -> 5 | O27: =N27*L27 -> 40 | P27: =ROUND(T27*(1-$Q$12),2) -> 487 | Q27: =ROUND(P27*1.22,2) -> 594.14 | R27: Process | S27: =TEXT(F27,0) -> ГП-137261 | T27: 487
A28: Цилиндры навивные | B28: Цилиндр навивной RWL 100 | C28: 1000 | D28: 25 | E28: 76 | F28: ГП-137264 | G28: Цилиндр навивной RWL 100 D 76 T 25 | H28: пач. | I28: * | J28: * | K28: 7 | L28: =K28 -> 7 | M28: B | N28: =IF(M28="A",1,IF(M28="B", ROUNDUP(10/L28,0),ROUNDUP(40/L28,0))) -> 2 | O28: =N28*L28 -> 14 | P28: =ROUND(T28*(1-$Q$12),2) -> 516.1 | Q28: =ROUND(P28*1.22,2) -> 629.64 | R28: Process | S28: =TEXT(F28,0) -> ГП-137264 | T28: 516.1
A29: Цилиндры навивные | B29: Цилиндр навивной RWL 100 | C29: 1000 | D29: 25 | E29: 89 | F29: ГП-137273 | G29: Цилиндр навивной RWL 100 D 89 T 25 | H29: пач. | I29: * | J29: * | K29: 6 | L29: =K29 -> 6 | M29: B | N29: =IF(M29="A",1,IF(M29="B", ROUNDUP(10/L29,0),ROUNDUP(40/L29,0))) -> 2 | O29: =N29*L29 -> 12 | P29: =ROUND(T29*(1-$Q$12),2) -> 576.4 | Q29: =ROUND(P29*1.22,2) -> 703.21 | R29: Process | S29: =TEXT(F29,0) -> ГП-137273 | T29: 576.4
A30: Цилиндры навивные | B30: Цилиндр навивной RWL 100 | C30: 1000 | D30: 25 | E30: 108 | F30: ГП-136982 | G30: Цилиндр навивной RWL 100 D 108 T 25 | H30: пач. | I30: * | K30: 6 | L30: =K30 -> 6 | M30: B | N30: =IF(M30="A",1,IF(M30="B", ROUNDUP(10/L30,0),ROUNDUP(40/L30,0))) -> 2 | O30: =N30*L30 -> 12 | P30: =ROUND(T30*(1-$Q$12),2) -> 751.7 | Q30: =ROUND(P30*1.22,2) -> 917.07 | R30: Process | S30: =TEXT(F30,0) -> ГП-136982 | T30: 751.7
A31: Цилиндры навивные | B31: Цилиндр навивной RWL 100 | C31: 1000 | D31: 25 | E31: 114 | F31: ГП-136986 | G31: Цилиндр навивной RWL 100 D 114 T 25 | H31: пач. | I31: * | K31: 5 | L31: =K31 -> 5 | M31: C | N31: =IF(M31="A",1,IF(M31="B", ROUNDUP(10/L31,0),ROUNDUP(40/L31,0))) -> 8 | O31: =N31*L31 -> 40 | P31: =ROUND(T31*(1-$Q$12),2) -> 799.9 | Q31: =ROUND(P31*1.22,2) -> 975.88 | R31: Process | S31: =TEXT(F31,0) -> ГП-136986 | T31: 799.9
A32: Цилиндры навивные | B32: Цилиндр навивной RWL 100 | C32: 1000 | D32: 25 | E32: 133 | F32: ГП-136998 | G32: Цилиндр навивной RWL 100 D 133 T 25 | H32: пач. | I32: * | K32: 5 | L32: =K32 -> 5 | M32: C | N32: =IF(M32="A",1,IF(M32="B", ROUNDUP(10/L32,0),ROUNDUP(40/L32,0))) -> 8 | O32: =N32*L32 -> 40 | P32: =ROUND(T32*(1-$Q$12),2) -> 837.1 | Q32: =ROUND(P32*1.22,2) -> 1021.26 | R32: Process | S32: =TEXT(F32,0) -> ГП-136998 | T32: 837.1
A33: Цилиндры навивные | B33: Цилиндр навивной RWL 100 | C33: 1000 | D33: 25 | E33: 159 | F33: ГП-137019 | G33: Цилиндр навивной RWL 100 D 159 T 25 | H33: пач. | I33: * | K33: 4 | L33: =K33 -> 4 | M33: C | N33: =IF(M33="A",1,IF(M33="B", ROUNDUP(10/L33,0),ROUNDUP(40/L33,0))) -> 10 | O33: =N33*L33 -> 40 | P33: =ROUND(T33*(1-$Q$12),2) -> 933.9 | Q33: =ROUND(P33*1.22,2) -> 1139.36 | R33: Process | S33: =TEXT(F33,0) -> ГП-137019 | T33: 933.9
A34: Цилиндры навивные | B34: Цилиндр навивной RWL 100 | C34: 1000 | D34: 25 | E34: 169 | F34: ГП-137037 | G34: Цилиндр навивной RWL 100 D 169 T 25 | H34: пач. | I34: * | K34: 4 | L34: =K34 -> 4 | M34: C | N34: =IF(M34="A",1,IF(M34="B", ROUNDUP(10/L34,0),ROUNDUP(40/L34,0))) -> 10 | O34: =N34*L34 -> 40 | P34: =ROUND(T34*(1-$Q$12),2) -> 978 | Q34: =ROUND(P34*1.22,2) -> 1193.16 | R34: Process | S34: =TEXT(F34,0) -> ГП-137037 | T34: 978
A35: Цилиндры навивные | B35: Цилиндр навивной RWL 100 | C35: 1000 | D35: 25 | E35: 219 | F35: ГП-137053 | G35: Цилиндр навивной RWL 100 D 219 T 25 | H35: пач. | I35: * | K35: 3 | L35: =K35 -> 3 | M35: C | N35: =IF(M35="A",1,IF(M35="B", ROUNDUP(10/L35,0),ROUNDUP(40/L35,0))) -> 14 | O35: =N35*L35 -> 42 | P35: =ROUND(T35*(1-$Q$12),2) -> 1244.6 | Q35: =ROUND(P35*1.22,2) -> 1518.41 | R35: Process | S35: =TEXT(F35,0) -> ГП-137053 | T35: 1244.6
A36: Цилиндры навивные | B36: Цилиндр навивной RWL 100 | C36: 1000 | D36: 25 | E36: 273 | F36: ГП-137295 | G36: Цилиндр навивной RWL 100 D 273 T 25 | H36: пач. | I36: * | K36: 2 | L36: =K36 -> 2 | M36: C | N36: =IF(M36="A",1,IF(M36="B", ROUNDUP(10/L36,0),ROUNDUP(40/L36,0))) -> 20 | O36: =N36*L36 -> 40 | P36: =ROUND(T36*(1-$Q$12),2) -> 1666.4 | Q36: =ROUND(P36*1.22,2) -> 2033.01 | R36: Process | S36: =TEXT(F36,0) -> ГП-137295 | T36: 1666.4
A37: Цилиндры навивные | B37: Цилиндр навивной RWL 100 | C37: 1000 | D37: 30 | E37: 18 | F37: ГП-136984 | G37: Цилиндр навивной RWL 100 D 18 T 30 | H37: пач. | I37: * | K37: 12 | L37: =K37 -> 12 | M37: B | N37: =IF(M37="A",1,IF(M37="B", ROUNDUP(10/L37,0),ROUNDUP(40/L37,0))) -> 1 | O37: =N37*L37 -> 12 | P37: =ROUND(T37*(1-$Q$12),2) -> 318.5 | Q37: =ROUND(P37*1.22,2) -> 388.57 | R37: Process | S37: =TEXT(F37,0) -> ГП-136984 | T37: 318.5
A38: Цилиндры навивные | B38: Цилиндр навивной RWL 100 | C38: 1000 | D38: 30 | E38: 21 | F38: ГП-137042 | G38: Цилиндр навивной RWL 100 D 21 T 30 | H38: пач. | I38: * | K38: 12 | L38: =K38 -> 12 | M38: A | N38: =IF(M38="A",1,IF(M38="B", ROUNDUP(10/L38,0),ROUNDUP(40/L38,0))) -> 1 | O38: =N38*L38 -> 12 | P38: =ROUND(T38*(1-$Q$12),2) -> 324.3 | Q38: =ROUND(P38*1.22,2) -> 395.65 | R38: Process | S38: =TEXT(F38,0) -> ГП-137042 | T38: 324.3
A39: Цилиндры навивные | B39: Цилиндр навивной RWL 100 | C39: 1000 | D39: 30 | E39: 25 | F39: ГП-136928 | G39: Цилиндр навивной RWL 100 D 25 T 30 | H39: пач. | I39: * | K39: 12 | L39: =K39 -> 12 | M39: B | N39: =IF(M39="A",1,IF(M39="B", ROUNDUP(10/L39,0),ROUNDUP(40/L39,0))) -> 1 | O39: =N39*L39 -> 12 | P39: =ROUND(T39*(1-$Q$12),2) -> 378.2 | Q39: =ROUND(P39*1.22,2) -> 461.4 | R39: Process | S39: =TEXT(F39,0) -> ГП-136928 | T39: 378.2
A40: Цилиндры навивные | B40: Цилиндр навивной RWL 100 | C40: 1000 | D40: 30 | E40: 28 | F40: ГП-137052 | G40: Цилиндр навивной RWL 100 D 28 T 30 | H40: пач. | I40: * | K40: 10 | L40: =K40 -> 10 | M40: A | N40: =IF(M40="A",1,IF(M40="B", ROUNDUP(10/L40,0),ROUNDUP(40/L40,0))) -> 1 | O40: =N40*L40 -> 10 | P40: =ROUND(T40*(1-$Q$12),2) -> 381.5 | Q40: =ROUND(P40*1.22,2) -> 465.43 | R40: Process | S40: =TEXT(F40,0) -> ГП-137052 | T40: 381.5
A41: Цилиндры навивные | B41: Цилиндр навивной RWL 100 | C41: 1000 | D41: 30 | E41: 32 | F41: ГП-135137 | G41: Цилиндр навивной RWL 100 D 32 T 30 | H41: пач. | I41: * | K41: 10 | L41: =K41 -> 10 | M41: A | N41: =IF(M41="A",1,IF(M41="B", ROUNDUP(10/L41,0),ROUNDUP(40/L41,0))) -> 1 | O41: =N41*L41 -> 10 | P41: =ROUND(T41*(1-$Q$12),2) -> 400 | Q41: =ROUND(P41*1.22,2) -> 488 | R41: Process | S41: =TEXT(F41,0) -> ГП-135137 | T41: 400
A42: Цилиндры навивные | B42: Цилиндр навивной RWL 100 | C42: 1000 | D42: 30 | E42: 35 | F42: ГП-135141 | G42: Цилиндр навивной RWL 100 D 35 T 30 | H42: пач. | I42: * | J42: * | K42: 10 | L42: =K42 -> 10 | M42: A | N42: =IF(M42="A",1,IF(M42="B", ROUNDUP(10/L42,0),ROUNDUP(40/L42,0))) -> 1 | O42: =N42*L42 -> 10 | P42: =ROUND(T42*(1-$Q$12),2) -> 424.8 | Q42: =ROUND(P42*1.22,2) -> 518.26 | R42: Process | S42: =TEXT(F42,0) -> ГП-135141 | T42: 424.8
A43: Цилиндры навивные | B43: Цилиндр навивной RWL 100 | C43: 1000 | D43: 30 | E43: 38 | F43: ГП-135145 | G43: Цилиндр навивной RWL 100 D 38 T 30 | H43: пач. | I43: * | K43: 9 | L43: =K43 -> 9 | M43: B | N43: =IF(M43="A",1,IF(M43="B", ROUNDUP(10/L43,0),ROUNDUP(40/L43,0))) -> 2 | O43: =N43*L43 -> 18 | P43: =ROUND(T43*(1-$Q$12),2) -> 446.9 | Q43: =ROUND(P43*1.22,2) -> 545.22 | R43: Process | S43: =TEXT(F43,0) -> ГП-135145 | T43: 446.9
A44: Цилиндры навивные | B44: Цилиндр навивной RWL 100 | C44: 1000 | D44: 30 | E44: 42 | F44: ГП-135149 | G44: Цилиндр навивной RWL 100 D 42 T 30 | H44: пач. | I44: * | J44: * | K44: 9 | L44: =K44 -> 9 | M44: A | N44: =IF(M44="A",1,IF(M44="B", ROUNDUP(10/L44,0),ROUNDUP(40/L44,0))) -> 1 | O44: =N44*L44 -> 9 | P44: =ROUND(T44*(1-$Q$12),2) -> 448.5 | Q44: =ROUND(P44*1.22,2) -> 547.17 | R44: Process | S44: =TEXT(F44,0) -> ГП-135149 | T44: 448.5
A45: Цилиндры навивные | B45: Цилиндр навивной RWL 100 | C45: 1000 | D45: 30 | E45: 45 | F45: ГП-135152 | G45: Цилиндр навивной RWL 100 D 45 T 30 | H45: пач. | I45: * | J45: * | K45: 9 | L45: =K45 -> 9 | M45: A | N45: =IF(M45="A",1,IF(M45="B", ROUNDUP(10/L45,0),ROUNDUP(40/L45,0))) -> 1 | O45: =N45*L45 -> 9 | P45: =ROUND(T45*(1-$Q$12),2) -> 458.3 | Q45: =ROUND(P45*1.22,2) -> 559.13 | R45: Process | S45: =TEXT(F45,0) -> ГП-135152 | T45: 458.3
...

Sheet Сопутствующая продукция
A1: ПРАЙС-ЛИСТ НА СОПУТСТВУЮЩУЮ ПРОДУКЦИЮ
A2: ООО "РОКВУЛ"
A4: ТЕХНИЧЕСКАЯ ИЗОЛЯЦИЯ: СОПУТСТВУЮЩАЯ ПРОДУКЦИЯ
A6: от 01 апреля 2026 года
A9: Важные примечания:
A10: 1. Ставка НДС применяется в соответствии с действующим законодательством.
A11: 2. Счет является действительным к оплате в течение 3-х банковских дней. | L11: СКИДКА
A12: 3. Отгрузка производится кратно упаковкам. | L12: 0
A13: 4. Сроки поставки уточняйте у сотрудника отдела по работе с клиентами.
F15: УПАКОВКА | H15: Расход | I15: Цена от 01.04.2026
A16: Сегмент | B16: Продукт | C16: RWL код | D16: Название | E16: Упаковка | F16: шт./уп. | G16: ЕИ | H16: ЕИ/м2 | I16: руб./ЕИ без НДС | J16: руб./ЕИ с НДС 22% | K16: руб./уп. без НДС | L16: руб./уп. с НДС 22% | M16: =C16 -> RWL код | N16: руб./ЕИ без НДС
A17: Сопутствующая продукция для ФТ БАРЬЕР / ФТ БАРЬЕР Д | B17: Анкер стальной | C17: ТП-00008966 | D17: Анкер ТМА-080 | E17: кор. | F17: 500 | G17: шт. | I17: =N17*(1-$L$12) -> 25.2 | J17: =ROUND(I17*1.22,2) -> 30.74 | K17: =I17*F17 -> 12600 | L17: =ROUND(K17*1.22,2) -> 15372 | M17: =TEXT(C17,0) -> ТП-00008966 | N17: 25.2
A18: Сопутствующая продукция для ФТ БАРЬЕР / ФТ БАРЬЕР Д | B18: Анкер стальной | C18: ТП-00008967 | D18: Анкер ТМА-110 | E18: кор. | F18: 500 | G18: шт. | I18: =N18*(1-$L$12) -> 28.5 | J18: =ROUND(I18*1.22,2) -> 34.77 | K18: =I18*F18 -> 14250 | L18: =ROUND(K18*1.22,2) -> 17385 | M18: =TEXT(C18,0) -> ТП-00008967 | N18: 28.5
A19: Сопутствующая продукция для ФТ БАРЬЕР / ФТ БАРЬЕР Д | B19: Анкер стальной | C19: ТП-00008968 | D19: Анкер ТМА-140 | E19: кор. | F19: 250 | G19: шт. | I19: =N19*(1-$L$12) -> 31.6 | J19: =ROUND(I19*1.22,2) -> 38.55 | K19: =I19*F19 -> 7900 | L19: =ROUND(K19*1.22,2) -> 9638 | M19: =TEXT(C19,0) -> ТП-00008968 | N19: 31.6
A20: Сопутствующая продукция для ФТ БАРЬЕР / ФТ БАРЬЕР Д | B20: Анкер стальной | C20: ТП-00008969 | D20: Анкер ТМА-170 | E20: кор. | F20: 250 | G20: шт. | I20: =N20*(1-$L$12) -> 34.3 | J20: =ROUND(I20*1.22,2) -> 41.85 | K20: =I20*F20 -> 8575 | L20: =ROUND(K20*1.22,2) -> 10461.5 | M20: =TEXT(C20,0) -> ТП-00008969 | N20: 34.3
A21: Сопутствующая продукция для ФТ БАРЬЕР / ФТ БАРЬЕР Д | B21: Анкер стальной | C21: ТП-00008970 | D21: Анкер ТМА-200 | E21: кор. | F21: 250 | G21: шт. | I21: =N21*(1-$L$12) -> 37.9 | J21: =ROUND(I21*1.22,2) -> 46.24 | K21: =I21*F21 -> 9475 | L21: =ROUND(K21*1.22,2) -> 11559.5 | M21: =TEXT(C21,0) -> ТП-00008970 | N21: 37.9
A22: Сопутствующая продукция для ФТ БАРЬЕР / ФТ БАРЬЕР Д | B22: Анкер стальной | C22: ТП-00008971 | D22: Анкер ТМА-250 | E22: кор. | F22: 200 | G22: шт. | I22: =N22*(1-$L$12) -> 56.8 | J22: =ROUND(I22*1.22,2) -> 69.3 | K22: =I22*F22 -> 11360 | L22: =ROUND(K22*1.22,2) -> 13859.2 | M22: =TEXT(C22,0) -> ТП-00008971 | N22: 56.8
A23: Сопутствующая продукция для ФТ БАРЬЕР / ФТ БАРЬЕР Д | B23: Тарельчатый держатель | C23: ТП-00008972 | D23: Тарельчатый держатель MDB-80 | E23: кор. | F23: 250 | G23: шт. | I23: =N23*(1-$L$12) -> 19.8 | J23: =ROUND(I23*1.22,2) -> 24.16 | K23: =I23*F23 -> 4950 | L23: =ROUND(K23*1.22,2) -> 6039 | M23: =TEXT(C23,0) -> ТП-00008972 | N23: 19.8
A24: Сопутствующая продукция для ФТ БАРЬЕР / ФТ БАРЬЕР Д | B24: Декоративная краска ФТ Декор | C24: ТП-50694 | D24: Краска ФТ Декор (белый) | E24: вед. | F24: 20 | G24: кг | H24: 1.5-1.8 | I24: =N24*(1-$L$12) -> 490.1 | J24: =ROUND(I24*1.22,2) -> 597.92 | K24: =I24*F24 -> 9802 | L24: =ROUND(K24*1.22,2) -> 11958.44 | M24: =TEXT(C24,0) -> ТП-50694 | N24: 490.1
A25: Сопутствующая продукция для ФТ БАРЬЕР / ФТ БАРЬЕР Д | B25: Декоративная краска ФТ Декор | D25: Краска FT DÉCOR (Категория 1) | E25: вед. | F25: 20 | G25: кг | I25: =N25*(1-$L$12) -> 584.21 | J25: =ROUND(I25*1.22,2) -> 712.74 | K25: =I25*F25 -> 11684.2 | L25: =ROUND(K25*1.22,2) -> 14254.72 | N25: 584.21
A26: Сопутствующая продукция для ФТ БАРЬЕР / ФТ БАРЬЕР Д | B26: Декоративная краска ФТ Декор | D26: Краска FT DÉCOR (категория 2) | E26: вед. | F26: 20 | G26: кг | I26: =N26*(1-$L$12) -> 631.3 | J26: =ROUND(I26*1.22,2) -> 770.19 | K26: =I26*F26 -> 12626 | L26: =ROUND(K26*1.22,2) -> 15403.72 | N26: 631.3
A27: Сопутствующая продукция для ФТ БАРЬЕР / ФТ БАРЬЕР Д | B27: Декоративная краска ФТ Декор | D27: Краска FT DÉCOR (категория 3) | E27: вед. | F27: 20 | G27: кг | I27: =N27*(1-$L$12) -> 725.47 | J27: =ROUND(I27*1.22,2) -> 885.07 | K27: =I27*F27 -> 14509.4 | L27: =ROUND(K27*1.22,2) -> 17701.47 | N27: 725.47
A28: Сопутствующая продукция для ФТ БАРЬЕР / ФТ БАРЬЕР Д | B28: Декоративная краска ФТ Декор | D28: Краска FT DÉCOR (категория 4) | E28: вед. | F28: 20 | G28: кг | I28: =N28*(1-$L$12) -> 1055.01 | J28: =ROUND(I28*1.22,2) -> 1287.11 | K28: =I28*F28 -> 21100.2 | L28: =ROUND(K28*1.22,2) -> 25742.24 | N28: 1055.01
A29: Сопутствующая продукция для КОНЛИТ SL 150 | B29: Клей КОНЛИТ | C29: ТП-90610 | D29: Клей КОНЛИТ Глю | E29: вед. | F29: 20 | G29: кг | H29: -- | I29: =N29*(1-$L$12) -> 392.2 | J29: =ROUND(I29*1.22,2) -> 478.48 | K29: =I29*F29 -> 7844 | L29: =ROUND(K29*1.22,2) -> 9569.68 | M29: =TEXT(C29,0) -> ТП-90610 | N29: 392.2
A30: Сопутствующая продукция для КОНЛИТ SL 150 | B30: =B29 -> Клей КОНЛИТ | C30: ТП-00014502 | D30: Клей КОНЛИТ Глю mineral | E30: пал. | F30: 42 | G30: уп. | H30: -- | I30: =N30*25 -> 1135 | J30: =ROUND(I30*1.22,2) -> 1384.7 | K30: =I30*F30 -> 47670 | L30: =ROUND(K30*1.22,2) -> 58157.4 | M30: ТП-00014502 | N30: 45.4
A31: Аксессуары к технической изоляции | B31: Самоклеящееся покрытие для теплоизоляции | C31: ТП-276973 | D31: РОКпротект 600 мм (50 м, ш = 600 мм) | E31: шт. | F31: 1 | G31: шт. | H31: -- | I31: =N31*(1-$L$12) -> 45129.2 | J31: =ROUND(I31*1.22,2) -> 55057.62 | K31: =I31*F31 -> 45129.2 | L31: =ROUND(K31*1.22,2) -> 55057.62 | M31: =TEXT(C31,0) -> ТП-276973 | N31: 45129.2
A32: Аксессуары к технической изоляции | B32: Лента алюминиевая самоклеящаяся | C32: ТП-68626 | D32: Лента алюминиевая самоклеящаяся ЛАС (50 м, ш = 100 мм) | E32: пач. | F32: 12 | G32: рул. | H32: -- | I32: =N32*(1-$L$12) -> 1452.1 | J32: =ROUND(I32*1.22,2) -> 1771.56 | K32: =I32*F32 -> 17425.2 | L32: =ROUND(K32*1.22,2) -> 21258.74 | M32: ТП-68626 | N32: 1452.1
A33: Аксессуары к технической изоляции | B33: Лента алюминиевая самоклеящаяся | C33: ТП-331784 | D33: Лента алюминиевая самоклеящаяся ЛАС (50 м, ш = 75 мм) | E33: пач. | F33: 24 | G33: рул. | H33: -- | I33: =N33*(1-$L$12) -> 1095.5 | J33: =ROUND(I33*1.22,2) -> 1336.51 | K33: =I33*F33 -> 26292 | L33: =ROUND(K33*1.22,2) -> 32076.24 | M33: ТП-331784 | N33: 1095.5
A34: Аксессуары к технической изоляции | B34: Лента алюминиевая самоклеящаяся | C34: ТП-70119 | D34: Лента алюминиевая самоклеящаяся ЛАС (50 м, ш = 50 мм) | E34: пач. | F34: 24 | G34: рул. | H34: -- | I34: =N34*(1-$L$12) -> 737 | J34: =ROUND(I34*1.22,2) -> 899.14 | K34: =I34*F34 -> 17688 | L34: =ROUND(K34*1.22,2) -> 21579.36 | M34: ТП-70119 | N34: 737
A35: Аксессуары к технической изоляции | B35: Лента алюминиевая самоклеящаяся | C35: ТП-68621 | D35: Лента алюминиевая самоклеящаяся армированная ЛАС-А (50 м, ш = 100 мм) | E35: пач. | F35: 12 | G35: рул. | H35: -- | I35: =N35*(1-$L$12) -> 1676.3 | J35: =ROUND(I35*1.22,2) -> 2045.09 | K35: =I35*F35 -> 20115.6 | L35: =ROUND(K35*1.22,2) -> 24541.03 | M35: ТП-68621 | N35: 1676.3
A36: Аксессуары к технической изоляции | B36: Лента алюминиевая самоклеящаяся | C36: ТП-68622 | D36: Лента алюминиевая самоклеящаяся армированная ЛАС-А (50 м, ш = 75 мм) | E36: пач. | F36: 16 | G36: рул. | H36: -- | I36: =N36*(1-$L$12) -> 1259.9 | J36: =ROUND(I36*1.22,2) -> 1537.08 | K36: =I36*F36 -> 20158.4 | L36: =ROUND(K36*1.22,2) -> 24593.25 | M36: ТП-68622 | N36: 1259.9
A37: Аксессуары к технической изоляции | B37: Лента алюминиевая самоклеящаяся | C37: ТП-70122 | D37: Лента алюминиевая самоклеящаяся армированная ЛАС-А (50 м, ш = 50 мм) | E37: пач. | F37: 24 | G37: рул. | H37: -- | I37: =N37*(1-$L$12) -> 849.9 | J37: =ROUND(I37*1.22,2) -> 1036.88 | K37: =I37*F37 -> 20397.6 | L37: =ROUND(K37*1.22,2) -> 24885.07 | M37: ТП-70122 | N37: 849.9

Sheet Возможности пр-ва
A1: ВОЗМОЖНОСТИ ПРОИЗВОДСТВА ТЕХНИЧЕСКОЙ ТЕПЛОИЗОЛЯЦИОННОЙ ПРОДУКЦИИ ООО "РОКВУЛ"
A3: Важные примечания:
A4: 1. Данный список не является публичной офертой и носит информационный характер.
A5: 2. Возможности производства цилиндров полностью указаны в Прайс-листе.
A6: 3. * Диапазон толщин для каждого завода может отличаться. Возможности производства конкретной толщины на конкретном заводе уточняйте у торгового представителя в вашем регионе.
A7: 4. ** Варианты упаковки на разных заводах могут отличаться. Возможность упаковки конкретной толщины на конкретном заводе уточняйте у торгового представителя в вашем регионе.
A8: 5. *** Минимальная партия при отгрузке с завода (при отсутствии материала на складе) согласовывается с отделом продаж.
A9: 6. Цену уточняйте у торгового представителя в вашем регионе.
G11: МИНИМАЛЬНЫЙ ЗАКАЗ | J11: ПРОИЗВОДСТВО* | N11: УПАКОВКА**
A12: Сегмент | B12: Продукт | C12: Применение | D12: Размер плиты | E12: Толщины | F12: Упаковка | G12: A | H12: B | I12: C, D | J12: ZHE | K12: VYB | L12: ELA | M12: TRK | N12: рул. или пач. | O12: рул./пал. или пач./пал.
A13: Прошивные маты ВАЙРЕД МАТ | B13: ВАЙРЕД МАТ 80 | C13: Тепловая изоляция технологического и энергетического оборудования, тепловых сетей, магистральных и промышленных трубопроводов с температурой до 640°С. Маты выпускаются с односторонним покрытием сеткой из гальванизированной проволоки (негорючий материал - НГ) | D13: Длина 2000-6000 мм (в зависимости от толщины); Ширина 1000 мм | E13: 40-120 мм c шагом 10 мм | F13: рул. | G13: 80 рул. | H13: 80 рул. | I13: 80 рул. | J13: * | N13: ДА | O13: ДА***
A14: Прошивные маты ВАЙРЕД МАТ | B14: ВАЙРЕД МАТ 80 SST | C14: Тепловая изоляция технологического и энергетического оборудования, тепловых сетей, магистральных и промышленных трубопроводов с температурой до 640°С. Маты выпускаются с односторонним покрытием сеткой из нержавеющей проволоки | D14: Длина 2000-6000 мм (в зависимости от толщины); Ширина 1000 мм | E14: 40-120 мм c шагом 10 мм | F14: рул. | G14: 80 рул. | H14: 80 рул. | I14: 80 рул. | J14: * | N14: ДА | O14: ДА***
A15: Прошивные маты ВАЙРЕД МАТ | B15: ВАЙРЕД МАТ 80 Кф | C15: Тепловая изоляция технологического и энергетического оборудования, тепловых сетей, магистральных и промышленных трубопроводов с температурой до 640°С. Маты выпускаются с односторонним покрытием сеткой из гальванизированной проволоки, кашированные армированной алюминиевой фольгой | D15: Длина 2000-6000 мм (в зависимости от толщины); Ширина 1000 мм | E15: 40-120 мм c шагом 10 мм | F15: рул. | G15: 80 рул. | H15: 80 рул. | I15: 80 рул. | J15: * | N15: ДА | O15: ДА***
A16: Прошивные маты ВАЙРЕД МАТ | B16: ВАЙРЕД МАТ 80 Кф1 | C16: Тепловая изоляция технологического и энергетического оборудования, тепловых сетей, магистральных и промышленных трубопроводов с температурой до 640°С. Маты выпускаются с односторонним покрытием сеткой из гальванизированной проволоки, кашированные неармированной алюминиевой фольгой (негорючий материал - НГ) | D16: Длина 2000-6000 мм (в зависимости от толщины); Ширина 1000 мм | E16: 40-120 мм c шагом 10 мм | F16: рул. | G16: 80 рул. | H16: 80 рул. | I16: 80 рул. | J16: * | N16: ДА
A17: Прошивные маты ВАЙРЕД МАТ | B17: ВАЙРЕД МАТ 105 | C17: Тепловая изоляция технологического и энергетического оборудования, тепловых сетей, магистральных и промышленных трубопроводов с температурой до 660°С. Огнезащита воздуховодов с пределом огнестойкости до EI 240 мин. Маты выпускаются с односторонним покрытием сеткой из гальванизированной проволоки (негорючий материал - НГ) | D17: Длина 2000-7000 мм (в зависимости от толщины); Ширина 1000 мм | E17: 25, 30-100 мм с шагом 10 мм | F17: рул. | G17: 80 рул. | H17: 80 рул. | I17: 80 рул. | J17: * | N17: ДА | O17: ДА***
A18: Прошивные маты ВАЙРЕД МАТ | B18: ВАЙРЕД МАТ 105 SST | C18: Тепловая изоляция технологического и энергетического оборудования, тепловых сетей, магистральных и промышленных трубопроводов с температурой до 660°С. Маты выпускаются с односторонним покрытием сеткой из нержавеющей проволоки | D18: Длина 2000-7000 мм (в зависимости от толщины); Ширина 1000 мм | E18: 25, 30-100 мм с шагом 10 мм | F18: рул. | G18: 80 рул. | H18: 80 рул. | I18: 80 рул. | J18: * | N18: ДА | O18: ДА***
A19: Прошивные маты ВАЙРЕД МАТ | B19: ВАЙРЕД МАТ 105 Кф | C19: Тепловая изоляция технологического и энергетического оборудования, тепловых сетей, магистральных и промышленных трубопроводов с температурой до 660°С. Маты выпускаются с односторонним покрытием сеткой из гальванизированной проволоки, кашированные армированной алюминиевой фольгой | D19: Длина 2000-7000 мм (в зависимости от толщины); Ширина 1000 мм | E19: 25, 30-100 мм с шагом 10 мм | F19: рул. | G19: 80 рул. | H19: 80 рул. | I19: 80 рул. | J19: * | N19: ДА | O19: ДА***
A20: Прошивные маты ВАЙРЕД МАТ | B20: ВАЙРЕД МАТ 105 Кф1 | C20: Тепловая изоляция технологического и энергетического оборудования, тепловых сетей, магистральных и промышленных трубопроводов с температурой до 660°С. Огнезащита воздуховодов с пределом огнестойкости до EI 240 мин. Маты выпускаются с односторонним покрытием сеткой из гальванизированной проволоки, кашированные неармированной алюминиевой фольгой (негорючий материал - НГ) | D20: Длина 2000-7000 мм (в зависимости от толщины); Ширина 1000 мм | E20: 25, 30-100 мм с шагом 10 мм | F20: рул. | G20: 80 рул. | H20: 80 рул. | I20: 80 рул. | J20: * | N20: ДА | O20: ДА***
A21: Прошивные маты ВАЙРЕД МАТ | B21: ВАЙРЕД МАТ 50 | C21: Тепловая изоляция технологического и энергетического оборудования, тепловых сетей, магистральных и промышленных трубопроводов с температурой до 520°С. Маты выпускаются с односторонним покрытием сеткой из гальванизированной проволоки | D21: Длина 2000-5000 мм (в зависимости от толщины); Ширина 1000 мм | E21: 50-100 мм с шагом 10 мм | F21: рул. | G21: 80 рул. | H21: 80 рул. | I21: 80 рул. | J21: * | N21: ДА
A22: Ламельные маты | B22: ЛАМЕЛЛА МАТ (AL) | C22: Изоляция трубопроводов, оборудования и воздуховодов. Маты выпускаются с покрытием алюминиевой фольгой | D22: Длина 2500-10000 мм (в зависимости от толщины); Ширина 1000 мм | E22: 25, 20-60, 80, 100 мм | F22: рул. | G22: 1 рул. | H22: **** | I22: **** | J22: * | N22: ДА
A23: Маты ТЕХ МАТ | B23: ТЕХ МАТ | C23: Теплоизоляция трубороводов различного назначения, промышленного и энергетического оборудования с температурой до 420°С. | D23: Длина 5000-4000 мм (в зависимости от толщины); Ширина 1000 мм | E23: 50-90 мм с шагом 10 мм | F23: рул. | G23: 80 рул. | H23: 4.5 т | I23: 6 т | J23: * | N23: ДА
